BEGIN:VCALENDAR
VERSION:2.0
PRODID:-//hacksw/handcal//NONSGML v1.0//EN
BEGIN:VEVENT
SUMMARY:30eme Rando VTT familiale et Sportive
UID:2d5c1583-0fcb-44f1-bfc9-f5c677daf0ea
DTSTART:20260621T060000Z
DTEND:20260621T110000Z
LOCATION:Localisation rue Eric Tabarly 57600 Morsbach
CATEGORIES:Sportif
STATUS:
DESCRIPTION:<p>Pour le retour incontournable de nos randonnees VTT
 sportive ou familiale au coeur du bassin houiller, venez decouvrir
 nos parcours en single track sous nos forets
 avoisinantes.</p>
 
 <p>Sportif ou envie de faire votre premier
 parcours, vous y trouverez votre compte parmis nos 5 parcours
 proposes:</p>
 
 <p>- Parcours familial 20km fleche/ D+170m / Theme:
 autour du musee de la Mine / 1 ravitaillement</p>
 
 <p>- Parcours
 decouverte 30km fleche/ D+450m / autour de Forbach mais 90% en foret
 et acces a vos premiers single track / 2 ravitaillements</p>
 
 <p>-
 Parcours sportif de 40km fleche / D+650m / autour de Forbach par
 monts et vaux, parcours ludique et grimpant / 2
 ravitaillements</p>
 
 <p>- Parcours sportif de 45km / D+710m / une
 premiere boucle de 15km en GPS uniquement suivi du parcours fleche de
 30km/ 3 ravitaillements</p>
 
 <p>- Parcours intensifde 55km / D+910m /
 une premiere boucle de 15km en GPS uniquement suivi du parcours
 fleche de 40km / 3 ravitaillements</p>
 
 <p> </p>
 
 <p>L'accueil des
 participants se fait de 8h et 10h au centre Eric Tabarly de
 Morsbach. </p>
 
 <p>Possibilite de petite restauration sur place de
 12h a 14h ( bbq saucisses, frites , boissons,
 gateaux)</p>
 
 <p>inscriptions sur place</p>
 
 <p><span
 style="font-size:11pt;"><span><span style="font-family:Calibri,
 sans-serif;"><u>Reglement </u>: </span></span></span></p>
 
 <p>Cette
 randonnee de cyclotourisme est ouverte a tous les cyclistes VTT,
 licencies ou non. <br>
 Le port du casque est obligatoire. <br>
 Les
 moins de 18ans doivent etre au moins accompagnes d’un
 adulte</p>
 
 <p>La responsabilite des accidents provoques ou subis par
 les participants ne saurait en aucun cas incomber a l’association.
 Les participants devront se conformer aux codes de la route et de la
 foret, en respectant l’environnement.<br>
  </p>
 
 <p>Avant le
 depart, le participant atteste sur l’honneur :<br>
 -> Avoir pris
 connaissance du Questionnaire de sante, des consignes de securite et
 des regles d'or du document ci-dessous present<br>
 -> Au club avant
 le depart, avoir pris connaissance des difficultes du parcours et
 etre en condition physique suffisante pour effectuer le parcours
 qu'il a choisi</p>
 
 <p> </p>
URL;VALUE=URI:https://cyclo-morsbach.sportsregions.fr/evenements/2026/06/21/30eme-rando-vtt-familiale-et-sportive-2016038
END:VEVENT
END:VCALENDAR
